BEGIN:VCALENDAR
VERSION:2.0
PRODID:-//EmpowerHER Life - ECPv6.15.20//NONSGML v1.0//EN
CALSCALE:GREGORIAN
METHOD:PUBLISH
X-ORIGINAL-URL:https://empowerherlife.network
X-WR-CALDESC:Events for EmpowerHER Life
REFRESH-INTERVAL;VALUE=DURATION:PT1H
X-Robots-Tag:noindex
X-PUBLISHED-TTL:PT1H
BEGIN:VTIMEZONE
TZID:America/Chicago
BEGIN:DAYLIGHT
TZOFFSETFROM:-0600
TZOFFSETTO:-0500
TZNAME:CDT
DTSTART:20240310T080000
END:DAYLIGHT
BEGIN:STANDARD
TZOFFSETFROM:-0500
TZOFFSETTO:-0600
TZNAME:CST
DTSTART:20241103T070000
END:STANDARD
BEGIN:DAYLIGHT
TZOFFSETFROM:-0600
TZOFFSETTO:-0500
TZNAME:CDT
DTSTART:20250309T080000
END:DAYLIGHT
BEGIN:STANDARD
TZOFFSETFROM:-0500
TZOFFSETTO:-0600
TZNAME:CST
DTSTART:20251102T070000
END:STANDARD
BEGIN:DAYLIGHT
TZOFFSETFROM:-0600
TZOFFSETTO:-0500
TZNAME:CDT
DTSTART:20260308T080000
END:DAYLIGHT
BEGIN:STANDARD
TZOFFSETFROM:-0500
TZOFFSETTO:-0600
TZNAME:CST
DTSTART:20261101T070000
END:STANDARD
END:VTIMEZONE
BEGIN:VEVENT
DTSTART;TZID=America/Chicago:20250520T120000
DTEND;TZID=America/Chicago:20250520T130000
DTSTAMP:20260419T211428
CREATED:20250519T042523Z
LAST-MODIFIED:20250519T042523Z
UID:3268-1747742400-1747746000@empowerherlife.network
SUMMARY:Live Womenship Dialouge
DESCRIPTION:🎙️ FIRST-EVER LIVE WOMENSHIP DIALOGUE 🎉We’re making HERstory—and YOU have the chance to be in the room. \nJoin us for our very first live-recorded WOMENSHIP Dialogue featuring two of our newest powerhouse leaders: \n👑 Jami Redmond\, City Ambassador for Baton Rouge📱 Katrina Lucovic\, EmpowerHER Life Social Media Coordinator \nTogether\, they’ll dive into:👯‍♀️ What it’s really like working with your best friend💼 Leading through seasons of growth and transition⚡ Navigating negativity while staying true to yourself \nThis exclusive conversation will be recorded and shared later—but we’re opening up 5 seats for women who want to experience the magic LIVE. \n📍 Open Spaces | Baton Rouge🗓 Tuesday\, May 20th at 12PM🎟 Only 5 seats available—register now:👉 https://lp.constantcontactpages.com/ev/reg/uuh9hqs/lp/df321d08-1fc0-4f40-9b7f-5c7e2ecf575a \nBe in the room where culture-shifting conversations happen.This is WOMENSHIP in action. 💫 \n#WomenshipDialogue #EmpowerHERLife #LiveRecording #BatonRougeWomen #JamiRedmond #KatrinaLucovic #OpenSpacesSponsor #LeadershipAndSisterhood #TheBreakthrough2025 #WomenSupportingWomen
URL:https://empowerherlife.network/event/live-womenship-dialouge/
LOCATION:Open Spaces\, 1281 N Causeway Blvd #1\, Mandeville\, LA\, United States
CATEGORIES:Houma,New Orleans,Northshore,Slidell,Virtual,Womenship Dialogues
ATTACH;FMTTYPE=image/png:https://empowerherlife.network/wp-content/uploads/2025/05/8.png
END:VEVENT
BEGIN:VEVENT
DTSTART;TZID=America/Chicago:20250428T120000
DTEND;TZID=America/Chicago:20250428T130000
DTSTAMP:20260419T211428
CREATED:20250406T235148Z
LAST-MODIFIED:20250406T235148Z
UID:3057-1745841600-1745845200@empowerherlife.network
SUMMARY:Womenship Dialogues: Leading with Purpose
DESCRIPTION:How Passion\, Creativity & Vision Build Brands That Last \nJoin us on April 28 for a powerful edition of Womenship Dialogues\, hosted by Desi Allums and co-hosted by Jenn Sonier\, featuring a roundtable of women who have built thriving businesses rooted in authenticity\, creativity\, and purpose. \n📅 When: April 28\, 2025 | 12:00 PM – 1:00 PM CST📍 Where: Zoom💲 Cost: Free for Members + 1 Guest | $20 Public Pass🔗 Register Here \nMeet Our Guest Speakers:\n– Kim Mancini\, owner of Serenity Home and Gifts– Lexi Hartmann\, owner of iHartContent– Jamie Clouatre\, owner of Trinity Spice and J + CO Salon \nTogether\, they’ll explore what it means to lead with purpose—sharing personal stories\, lessons learned\, and the mindset shifts that helped them build businesses that are not only successful but deeply aligned with who they are. \nWhat This Dialogue Will Cover:\n✨ Turning a passion into a profitable\, lasting business✨ Staying authentic in industries like retail\, marketing\, wellness\, and beauty✨ Leading teams and communities with clarity and heart✨ Real talk on navigating challenges as women in business✨ How connection and community—the essence of “womenship”—support lasting success \nCome ready to listen\, reflect\, and join the conversation. This is a space where real stories spark real growth.
URL:https://empowerherlife.network/event/womenship-dialogues-leading-with-purpose/
LOCATION:Online Via Zoom
CATEGORIES:Womenship Dialogues
ATTACH;FMTTYPE=image/png:https://empowerherlife.network/wp-content/uploads/2025/04/02-feb-2025-Event-Website-Graphics-Corporate-11.png
END:VEVENT
BEGIN:VEVENT
DTSTART;TZID=America/Chicago:20250325T120000
DTEND;TZID=America/Chicago:20250325T130000
DTSTAMP:20260419T211428
CREATED:20250309T064442Z
LAST-MODIFIED:20250325T144854Z
UID:2966-1742904000-1742907600@empowerherlife.network
SUMMARY:WOMENSHIP DIALOGUE LIVE PODCAST: Breaking the Silence - Women\, Conflict\, and the Art of Healthy Resolution
DESCRIPTION:📅 Date: March 25th⏰ Time: 12 PM CST📍 Location: Virtual \n👉 REGISTER HERE → https://lp.constantcontactpages.com/ev/reg/wbkeh7b/lp/dcf6aa85-27ce-45e5-bf2c-c07c95da2d69 \n🔹 Members may bring a friend for free!🔹 Not a member? Public passes are available for just $20! \n\nThe Topic: Breaking the Silence – Women\, Conflict\, and the Art of Healthy Resolution\n💬 Conflict between women is often brushed under the rug—but not today. We’re opening up the conversation and breaking the silence. \nJoin EmpowerHER Life for this month’s Womenship Dialogue Live Podcast\, where we’ll dive into the unspoken tension\, the fear of confrontation\, and the importance of healing and resolution in women-led spaces. \nOur panel of powerhouse women will explore how to navigate conflict with courage\, communicate with emotional maturity\, and create healthier connections in our personal and professional lives. \n\nWhat You’ll Learn:\n✔️ Why conflict among women is often avoided—and how to change that✔️ How to engage in hard conversations with clarity\, not chaos✔️ Tools for conflict resolution that lead to healing\, not harm✔️ How to build relationships rooted in trust\, truth\, and compassion✔️ The mindset shifts needed to lead with maturity and love \n🔥 This dialogue is your chance to be part of the movement shifting the culture between women—from silent competition to supportive community. \n\nMeet Our Guests:\n👥 Jenna Guerrero – Houma’s City Ambassador\, Realtor\, and Former TV Host👥 Terra Thibadeaux – Houma’s Membership Coordinator\, Entrepreneur\, & Mentor👥 Tori Hill – Serial Entrepreneur\, Philanthropist\, & Multi-Business Owner \nThese women are no strangers to conflict—but they’ve learned how to move through it with strength and grace. Now\, they’re sharing their wisdom with you. \n\n📌 How to Join:🔹 Members: Register & bring a friend for free🔹 Non-Members: Public Pass just $20 \n📩 REGISTER HERE \n💥 Don’t miss this raw\, real\, and powerful conversation. Healing starts here.
URL:https://empowerherlife.network/event/womenship-dialogue-live-podcast-building-wealth-creating-multiple-streams-of-income/
LOCATION:Online Via Zoom
CATEGORIES:Houma,New Orleans,Northshore,Slidell,Virtual,Womenship Dialogues
ATTACH;FMTTYPE=image/jpeg:https://empowerherlife.network/wp-content/uploads/2025/03/02-feb-2025-Event-Website-Graphics-Corporate-3.jpg
END:VEVENT
BEGIN:VEVENT
DTSTART;TZID=America/Chicago:20250218T120000
DTEND;TZID=America/Chicago:20250218T130000
DTSTAMP:20260419T211428
CREATED:20250202T174023Z
LAST-MODIFIED:20250202T174223Z
UID:2646-1739880000-1739883600@empowerherlife.network
SUMMARY:[Virtual] Womenship Dialogues: Breaking Barriers. Building Brilliance
DESCRIPTION:The world is shifting\, and so are the conversations that shape it. Womenship Dialogues is not just another discussion—it’s a movement. This bold and thought-provoking series (and soon-to-be podcast) brings together diverse voices to explore the challenges\, victories\, and evolving landscape of what it means to be a woman today. \n📅 When: February 18\, 2025 | 12:00 PM – 1:00 PM CST\n💻 Where: Virtual on Zoom\n💲 Cost: Free for EHL Members (+1 Guest) | $20 Public Pass\n🔗 Register Here: Event Registration \nFeatured Speakers:\n🎙️ Desi Allums\n🎙️ Kristin Krummel\n🎙️ Elisa Smith\n🎙️ Kate Fusilier \nWhat to Expect:\n🔥 Dynamic Conversations – Real talk about real issues\, with no fluff.\n🌍 Fresh Perspectives – Stories and insights from women who challenge the status quo.\n📈 Actionable Growth Tools – Practical takeaways you can apply in your life and career.\n💡 Empowered Outcomes – A renewed sense of confidence and purpose to fuel your next move. \nThis isn’t just talk—it’s about action. Womenship Dialogues is for women who are ready to elevate their lives\, businesses\, and communities. \nBe part of the conversation. Be part of the change.
URL:https://empowerherlife.network/event/womenship-dialogues-feb-2025/
LOCATION:Online Via Zoom
CATEGORIES:Virtual,Womenship Dialogues
ATTACH;FMTTYPE=image/png:https://empowerherlife.network/wp-content/uploads/2025/02/02-feb-2025-Event-Website-Graphics-Corporate-3.png
END:VEVENT
END:VCALENDAR