BEGIN:VCALENDAR
VERSION:2.0
PRODID:-//EmpowerHER Life - ECPv6.15.20//NONSGML v1.0//EN
CALSCALE:GREGORIAN
METHOD:PUBLISH
X-ORIGINAL-URL:https://empowerherlife.network
X-WR-CALDESC:Events for EmpowerHER Life
REFRESH-INTERVAL;VALUE=DURATION:PT1H
X-Robots-Tag:noindex
X-PUBLISHED-TTL:PT1H
BEGIN:VTIMEZONE
TZID:America/Chicago
BEGIN:DAYLIGHT
TZOFFSETFROM:-0600
TZOFFSETTO:-0500
TZNAME:CDT
DTSTART:20240310T080000
END:DAYLIGHT
BEGIN:STANDARD
TZOFFSETFROM:-0500
TZOFFSETTO:-0600
TZNAME:CST
DTSTART:20241103T070000
END:STANDARD
BEGIN:DAYLIGHT
TZOFFSETFROM:-0600
TZOFFSETTO:-0500
TZNAME:CDT
DTSTART:20250309T080000
END:DAYLIGHT
BEGIN:STANDARD
TZOFFSETFROM:-0500
TZOFFSETTO:-0600
TZNAME:CST
DTSTART:20251102T070000
END:STANDARD
BEGIN:DAYLIGHT
TZOFFSETFROM:-0600
TZOFFSETTO:-0500
TZNAME:CDT
DTSTART:20260308T080000
END:DAYLIGHT
BEGIN:STANDARD
TZOFFSETFROM:-0500
TZOFFSETTO:-0600
TZNAME:CST
DTSTART:20261101T070000
END:STANDARD
END:VTIMEZONE
BEGIN:VEVENT
DTSTART;TZID=America/Chicago:20250203T120000
DTEND;TZID=America/Chicago:20250203T130000
DTSTAMP:20260423T171537
CREATED:20250202T165236Z
LAST-MODIFIED:20250202T170206Z
UID:2628-1738584000-1738587600@empowerherlife.network
SUMMARY:[Virtual] The Breakthrough: Reclaim Your Story and Thrive in Every Chapter with Kiersten Lortz
DESCRIPTION:How often do you say\, “I don’t have enough time”? \nThe truth is\, you have more time than you think. Don’t believe it? \nKiersten Lortz had big goals\, but with undiagnosed ADHD and four children (with lots of special needs)\, she didn’t see how she’d ever reach them. \nAfter 20 years of studying neuroscience and personal development\, she gained the tools\, skills\, and knowledge that transformed her overwhelmed\, chaotic life into one of incredible success and fulfillment. \nShe’ll share with you the first\, easy steps you can take to quickly reclaim control of your time and energy. From the start\, you’ll clearly see what changes you need to make to launch you into the life you’ve been seeking. \nIt’s time to live your best life. It’s your TIME TO THRIVE! \n📅 When: February 3\, 2025 | 12:00 PM CST – 1:00 PM CST\n💲 Cost: Free for Members (Members may invite one guest) | Public Registration: $20\n🔗 Register Here: Event Registration \nWhat You’ll Learn:\n\nHow your mind tricks you into believing you “don’t have enough time” and how to reframe that thinking.\nSimple neuroscience-based tools to decrease exhaustion and make better use of your time.\nThe difference between being efficient and being effective—and why one matters more.\n\nAbout the Speaker:\nKIERSTEN LORTZ is an accomplished coach\, speaker\, author\, and musician. She is the CEO of Possibilities Coaching and Consulting LLC where she helps Type-A moms reach big goals without stress\, overwhelm\, or guilt. She believes that\, given the right tools\, systems\, and mindset\, ambitious women can create abundance professionally and personally. Her 90-day TIME TO THRIVE program helps women reclaim clarity\, confidence\, and control. \nKiersten’s infectious blend of humor\, inspiration\, and vulnerability make her relatable and effective with clients and audiences alike. Her lived experiences and years of study in neuroscience and personal development\, combined with an ICF coaching certification\, make her an expert in achieving sustainable results without burnout or overwhelm. \nKiersten is the founder of the annual Possibilities Conference and the author of POSSIBILITIES (Covenant Communications\, 2017). She holds a degree in Violin Performance and worked for 25 years as a performer and teacher. She enjoys travel\, music\, and studying Japanese. \nShe and her husband\, Tim\, are the parents of four awesome kids\, ages 12-20. \n📍 Connect with Kiersten:\n🌐 Website\n🔗 LinkedIn\n📘 Facebook\n📷 Instagram \nThis session is open to all—whether you’re looking to find balance\, reach a big goal\, or simply stop feeling like you’re always running out of time. Reserve your spot today.\n \n  \n 
URL:https://empowerherlife.network/event/breakthrough-feb-2025/
LOCATION:Online Via Zoom
CATEGORIES:Houma,New Orleans,Northshore,Slidell,Virtual
ATTACH;FMTTYPE=image/png:https://empowerherlife.network/wp-content/uploads/2025/02/02-feb-2025-Event-Graphics-Houma.png
END:VEVENT
BEGIN:VEVENT
DTSTART;TZID=America/Chicago:20250130T093000
DTEND;TZID=America/Chicago:20250130T110000
DTSTAMP:20260423T171537
CREATED:20241223T160631Z
LAST-MODIFIED:20250124T021729Z
UID:2424-1738229400-1738234800@empowerherlife.network
SUMMARY:[Virtual] Womenship Dialogue: Breaking Barriers\, Building Brilliance
DESCRIPTION:Be part of history as we record our first-ever Womenship Dialogue\, streamed live from our Founders Club Retreat. This groundbreaking series – and soon-to-be podcast – brings together dynamic women leaders for raw\, honest conversations about the realities of modern womanhood. \nCLICK HERE TO REGISTER \nJoin EmpowerHer Life Founder Desi Allums and a panel of City Ambassadors – Jenna Guerrero\, Kat Parker\, Lauren Pilie\, and Samantha Tetlow – as they dive into the challenges\, victories\, and the power of womenship. \nSession Highlights: \n\nUnfiltered conversations about real challenges and victories\nFresh perspectives from diverse women leaders\nPractical strategies for personal and professional growth\nAuthentic stories that inspire action\n\n📝 Event Details: \n\nDate: January 30th\, 2025\nTime: 9:30 AM Central\nLocation: Virtual\nCost: Free to attend\nWho: Open to all members\n\nRegistration is required to receive the Zoom link. The link will be sent to registered participants prior to the event. \nCLICK HERE TO REGISTER
URL:https://empowerherlife.network/event/womenship-dialogue-jan/
LOCATION:Online Via Zoom
CATEGORIES:Virtual
ATTACH;FMTTYPE=image/png:https://empowerherlife.network/wp-content/uploads/2024/12/01-JAN-2025-Event-Graphics-Corporate-5.png
END:VEVENT
BEGIN:VEVENT
DTSTART;TZID=America/Chicago:20250129T180000
DTEND;TZID=America/Chicago:20250129T190000
DTSTAMP:20260423T171537
CREATED:20250102T181632Z
LAST-MODIFIED:20250125T062815Z
UID:2500-1738173600-1738177200@empowerherlife.network
SUMMARY:[VIRTUAL] Master Your Mindset with Amanda Delaup
DESCRIPTION:Start 2025 with Amanda Delaup\, owner of Cup of Grace\, in our latest virtual session on mastering your mindset for breakthrough results. Combining her business expertise with practical wisdom\, Amanda will share three key principles that drive sustainable success and personal growth. \nCLICK HERE TO REGISTER \nIn This Session You’ll Learn: \n\nWhy building strong habits creates better results than traditional goal-setting\nHow setting clear boundaries becomes a blessing in your personal and professional life\nEssential mindset principles that create lasting positive change\n\nAbout Our Speaker: Amanda Delaup is the owner of Cup of Grace\, where she helps entrepreneurs launch and scale their brands. With an MBA from the University of Alabama and experience spanning the NFL draft to NCAA leadership\, Amanda brings a unique blend of high-performance expertise and faith-based motivation to her work. Follow her journey @amandadelaup \n📝 Event Details: \n\nDate: January 29th\, 2025\nTime: 6:00 PM Central\nLocation: Virtual\nCost: Free to attend for Members and their Guest\nWho: Open to all members; Members may invite 1 female guest\n\nRegistration is required to receive the Zoom link. The link will be sent to registered participants prior to the event. \nCLICK HERE TO REGISTER
URL:https://empowerherlife.network/event/masteryourmindset/
LOCATION:Online Via Zoom
CATEGORIES:Virtual
ATTACH;FMTTYPE=image/png:https://empowerherlife.network/wp-content/uploads/2025/01/01-JAN-2025-Event-Graphics-Corporate-7.png
END:VEVENT
BEGIN:VEVENT
DTSTART;TZID=America/Chicago:20250127T120000
DTEND;TZID=America/Chicago:20250127T130000
DTSTAMP:20260423T171537
CREATED:20241223T155537Z
LAST-MODIFIED:20250125T063118Z
UID:2417-1737979200-1737982800@empowerherlife.network
SUMMARY:SpeakHER: Find Your Voice\, Share Your Story [Virtual]
DESCRIPTION:Launch into 2025 with the inaugural session of our SpeakHER Series\, a transformative program designed to empower women to step confidently into the spotlight. Whether you’re an aspiring speaker or looking to refine your existing skills\, this series will equip you with the tools to amplify your voice and impact. \nCLICK HERE TO REGISTER \nLed by EmpowerHer Life Founder and CEO Desi Allums\, this first session introduces the fundamental elements of powerful public speaking and authentic storytelling. Through practical exercises and expert guidance\, you’ll begin building the confidence and skills needed to captivate audiences and deliver your message with impact. \nWhat to Expect: \n\nSpeaker development fundamentals\nStorytelling techniques that connect\nPractical tips for authentic delivery\nSupportive environment for growth\nOpportunities for practice and feedback\n\nThis series is perfect for: \n\nAspiring speakers ready for their first spotlight\nExperienced speakers seeking to elevate their impact\nWomen with expertise and stories ready to be shared\n\n📝 Event Details: \n\nDate: January 27th\, 2025\nTime: 12:00 PM Central\nLocation: Virtual\nCost: Free to attend for Members and their Guest\nWho: Open to all members; Members are allowed to invite 1 Female Guest\n\nRegistration is required to receive the Zoom link. The link will be sent to registered participants prior to the event. \nSpeak Up\, Stand Out\, and Shin \n  \nCLICK HERE TO REGISTER \n 
URL:https://empowerherlife.network/event/speakher-jan/
LOCATION:Online Via Zoom
CATEGORIES:SpeakHER,Virtual
ATTACH;FMTTYPE=image/png:https://empowerherlife.network/wp-content/uploads/2024/12/01-JAN-2025-Event-Graphics-Corporate-4.png
END:VEVENT
BEGIN:VEVENT
DTSTART;TZID=America/Chicago:20250120T120000
DTEND;TZID=America/Chicago:20250120T130000
DTSTAMP:20260423T171537
CREATED:20241223T153442Z
LAST-MODIFIED:20250102T183912Z
UID:2410-1737374400-1737378000@empowerherlife.network
SUMMARY:ConnectHER: Collaborative Breakouts [Virtual]
DESCRIPTION:Start your year with meaningful connections at our ConnectHER virtual gathering. This dynamic session brings women together in small groups to connect\, brainstorm\, and collaborate. Through focused discussions and shared insights\, you’ll build relationships that matter while working through real challenges together. \nCLICK HERE TO REGISTER \nWhat to Expect: \n\nFocused breakout rooms for meaningful conversations\nCollaborative problem-solving with fellow members\nActionable takeaways you can implement right away\n\nGuided by EmpowerHer Life Founder and CEO Desi Allums\, this session creates space for authentic connection and practical support. Whether you’re seeking fresh perspectives on current challenges or looking to expand your network of like-minded women\, ConnectHER provides the perfect platform for growth through collaboration. \n📝 Event Details: \n\nDate: January 20th\, 2025\nTime: 12:00 PM Central\nLocation: Virtual\nCost: Free to attend\nWho: Open to all members\n\nRegistration is required to receive the Zoom link. The link will be sent to registered participants prior to the event. \nCollaborate. Create. Conquer. \nCLICK HERE TO REGISTER
URL:https://empowerherlife.network/event/connecther-jan/
LOCATION:Online Via Zoom
CATEGORIES:ConnectHER,Virtual
ATTACH;FMTTYPE=image/png:https://empowerherlife.network/wp-content/uploads/2024/12/01-JAN-2025-Event-Graphics-Corporate-3.png
END:VEVENT
BEGIN:VEVENT
DTSTART;TZID=America/Chicago:20250113T120000
DTEND;TZID=America/Chicago:20250113T130000
DTSTAMP:20260423T171537
CREATED:20241223T152102Z
LAST-MODIFIED:20250113T001345Z
UID:2406-1736769600-1736773200@empowerherlife.network
SUMMARY:BuildHER: Revenue Power Hour
DESCRIPTION:Join us for an action-packed session in our BuildHER Series with EmpowerHer Life Founder and CEO Desi Allums. This high-impact Revenue Power Hour is designed to energize and empower women entrepreneurs to drive revenue growth and take their businesses to the next level. Whether you’re looking to break through income plateaus or seeking strategies for sustainable growth\, this power hour will equip you with practical tools for success. \nCLICK HERE TO REGISTER \nIn This Power Hour: Transform your approach to revenue generation and business growth through focused strategies and actionable insights. Desi will guide you through breaking through barriers\, refining your approach\, and executing with confidence and clarity. \nAbout Our Speaker: Desi Allums is the visionary founder and CEO of EmpowerHer Life\, dedicated to helping women unlock their greatest potential in business and life. \n📝 Event Details: \n\nDate: Monday\, January 13th\, 2025\nTime: 12:00 PM Central\nLocation: Virtual\nCost: Free to attend\nWho: Open to all members\n\nRegistration is required to receive the Zoom link. The link will be sent to registered participants prior to the event. \nCLICK HERE TO REGISTER \n 
URL:https://empowerherlife.network/event/buildher-jan/
LOCATION:Online Via Zoom
CATEGORIES:BuildHER,Virtual
ATTACH;FMTTYPE=image/png:https://empowerherlife.network/wp-content/uploads/2024/12/01-JAN-2025-Event-Graphics-Corporate-2.png
END:VEVENT
BEGIN:VEVENT
DTSTART;TZID=America/Chicago:20250106T120000
DTEND;TZID=America/Chicago:20250106T130000
DTSTAMP:20260423T171537
CREATED:20241223T150949Z
LAST-MODIFIED:20241223T151351Z
UID:2399-1736164800-1736168400@empowerherlife.network
SUMMARY:The Breakthrough: Escaping the Drama Triangle w/ Debbie Denova [Virtual]
DESCRIPTION:Kick off 2025 with our inaugural Breakthrough Series session\, featuring Life Coach\, TV Host\, and Author Debbie Denova. This new virtual event series aligns with our theme for 2025 – The Breakthrough – offering focused insights and strategies to help you overcome barriers and step into your full potential. \nIn this powerful session\, Debbie will explore how to recognize and break free from the drama triangle – a pattern that can keep us stuck in narratives of victimhood and conflict. Transform your understanding of these dynamics and discover pathways to authentic empowerment. \nCLICK HERE TO REGISTER \nIn This Session You’ll Learn: \n\nHow the drama triangle functions as a trauma response\nUnderstanding the connection between narrative identity and victimhood\nThe role of personal responsibility in breaking free\nCommon pitfalls in addressing drama triangle behaviors\n\nAbout Our Speaker: Debbie Denova is a High Life Mentor\, author\, and TV host dedicated to helping others transform their lives through deeper understanding and practical strategies for growth. \n📝 Event Details: \n\nDate: Saturday\, January 6th\, 2025\nTime: 12:00 PM Central\nLocation: Virtual\nCost: Free to attend\nWho: Open to all members\n\nRegistration is required to receive the Zoom link. The link will be sent to registered participants prior to the event. \nCLICK HERE TO REGISTER
URL:https://empowerherlife.network/event/the-breakthrough-escaping-the-drama-triangle-w-debbie-denova-virtual/
LOCATION:Online Via Zoom
CATEGORIES:Houma,New Orleans,Northshore,Slidell,Virtual
ATTACH;FMTTYPE=image/png:https://empowerherlife.network/wp-content/uploads/2024/12/01-JAN-2025-Event-Graphics-Corporate.png
END:VEVENT
END:VCALENDAR