BEGIN:VCALENDAR
VERSION:2.0
PRODID:-//EmpowerHER Life - ECPv6.15.20//NONSGML v1.0//EN
CALSCALE:GREGORIAN
METHOD:PUBLISH
X-ORIGINAL-URL:https://empowerherlife.network
X-WR-CALDESC:Events for EmpowerHER Life
REFRESH-INTERVAL;VALUE=DURATION:PT1H
X-Robots-Tag:noindex
X-PUBLISHED-TTL:PT1H
BEGIN:VTIMEZONE
TZID:America/Chicago
BEGIN:DAYLIGHT
TZOFFSETFROM:-0600
TZOFFSETTO:-0500
TZNAME:CDT
DTSTART:20240310T080000
END:DAYLIGHT
BEGIN:STANDARD
TZOFFSETFROM:-0500
TZOFFSETTO:-0600
TZNAME:CST
DTSTART:20241103T070000
END:STANDARD
BEGIN:DAYLIGHT
TZOFFSETFROM:-0600
TZOFFSETTO:-0500
TZNAME:CDT
DTSTART:20250309T080000
END:DAYLIGHT
BEGIN:STANDARD
TZOFFSETFROM:-0500
TZOFFSETTO:-0600
TZNAME:CST
DTSTART:20251102T070000
END:STANDARD
BEGIN:DAYLIGHT
TZOFFSETFROM:-0600
TZOFFSETTO:-0500
TZNAME:CDT
DTSTART:20260308T080000
END:DAYLIGHT
BEGIN:STANDARD
TZOFFSETFROM:-0500
TZOFFSETTO:-0600
TZNAME:CST
DTSTART:20261101T070000
END:STANDARD
END:VTIMEZONE
BEGIN:VEVENT
DTSTART;TZID=America/Chicago:20250522T190000
DTEND;TZID=America/Chicago:20250522T203000
DTSTAMP:20260419T174756
CREATED:20250424T154734Z
LAST-MODIFIED:20250505T153723Z
UID:3155-1747940400-1747945800@empowerherlife.network
SUMMARY:NOLA: EHL New Orleans Launch Party
DESCRIPTION:We’re Coming to New Orleans! Join Us for the Official Launch Party \nWe’re celebrating the start of something new—EmpowerHER Life is launching in New Orleans\, and you’re invited to the poolside party that kicks it all off. \nEvent DetailsDate: May 22\, 2025Time: 7:00 – 8:30 PMLocation: Blackbird Hotel\, 1612 Prytania St.\, New OrleansRegister Here \nYour ticket includes hors d’oeuvres\, a welcome vibe that feels like summer\, and a front-row spot as we welcome the NOLA community into the mix. Cash bar available. \nAttire: Palm Royle-inspired—channel bold prints\, vintage glam\, and playful confidence.Setting: Poolside\, outdoors\, and full of good energy. \nTickets:$50 General Admission$45 Members$40 Founders \nCome ready to connect\, celebrate\, and see what’s ahead. \nRSVP TODAY
URL:https://empowerherlife.network/event/ehl-new-orleans-launch-party/
LOCATION:Blackbird Hotel\, 1612 Prytania St.\, New Orleans\, LA\, 70130\, United States
CATEGORIES:Houma,New Orleans,Northshore,Slidell,Special Event
ATTACH;FMTTYPE=image/png:https://empowerherlife.network/wp-content/uploads/2025/04/EHL-2025-05-Event-Graphics-Website-3.png
END:VEVENT
BEGIN:VEVENT
DTSTART;TZID=America/Chicago:20250430T093000
DTEND;TZID=America/Chicago:20250430T160000
DTSTAMP:20260419T174756
CREATED:20250306T063200Z
LAST-MODIFIED:20250410T053804Z
UID:2908-1746005400-1746028800@empowerherlife.network
SUMMARY:HER Power Within: A ONE Day Breakthrough Summit
DESCRIPTION:HER Power Within Conference: A One Breakthrough Summit\nStep into your power and experience THE BREAKTHROUGH at the HER Power Within Conference\, a transformational summit designed for women ready to elevate their lives\, careers\, and leadership. This is more than an event—it’s a movement\, a catalyst for change\, and a space where breakthroughs happen. \nWhat to Expect: \n\nPowerful Keynote Speakers sharing game-changing insights and strategies\nHands-on Workshops designed to equip you with tools for success\nDynamic Networking with ambitious\, like-minded women\nA High-Energy Atmosphere that will inspire and challenge you to level up\n\nYour Hosts & Speakers: \n\nEmcee: Kevinnie Dreher – Bringing energy\, wisdom\, and inspiration to the stage\nKeynote Speakers: Mary Jane Walsh & Debbie Denova – Experts in leadership\, mindset\, and transformation\nWorkshops Led By: Brittany Ramos\, Jenna Guerrero\, & Desi Allums – Guiding you through powerful\, actionable sessions\n\nEvent Details: \n\nLocation: Ellendale Country Club\, Houma\, LA\nDate & Time: 9:30 AM – 4:00 PM\nCheck-in: 9:30 AM – Arrive on time to connect and prepare for an unforgettable day\nLunch Provided – Enjoy a curated meal while building meaningful relationships\n\nEARLY BIRD PRICING: (Ends March 31st) \n\nFounders: $79\nMembers: $99\nNon-Members: $125\n\nThis is your time to step into clarity\, confidence\, and action. Get ready for a life-changing experience that will leave you empowered\, motivated\, and ready to break through to your next level. \nYour breakthrough starts here! Don’t miss this opportunity to be part of a powerful day of growth\, connection\, and transformation. \nREGISTER HERE -> https://lp.constantcontactpages.com/ev/reg/c4zsmxr/lp/a402ae5b-7be4-4233-9a45-2245b53c82b9
URL:https://empowerherlife.network/event/her-power-within-a-one-day-breakthrough-summit/
LOCATION:Ellendale Country Club\, 3319 LA-311\, Houma\, LA\, 70360\, United States
CATEGORIES:Founders Club,Houma,New Orleans,Northshore,Slidell,Special Event
ATTACH;FMTTYPE=image/jpeg:https://empowerherlife.network/wp-content/uploads/2025/03/All-Speakers-Horizontal-All-Purpose-scaled.jpg
END:VEVENT
BEGIN:VEVENT
DTSTART;TZID=America/Chicago:20250212T180000
DTEND;TZID=America/Chicago:20250212T210000
DTSTAMP:20260419T174756
CREATED:20250119T165637Z
LAST-MODIFIED:20250202T172524Z
UID:2530-1739383200-1739394000@empowerherlife.network
SUMMARY:EHL Slidell Launch Party: Mob Wives Galentines
DESCRIPTION:Get ready for a night of glamour\, connection\, and celebration as EmpowerHER Life makes its grand entrance into Slidell! Join us for Power and Partnerships: The EmpowerHER Life Mob Wives Galentine’s Party at the stunning Sadie Jane. \nMark your calendar for February 12th\, 6-9 PM\, and prepare to be part of something extraordinary. This isn’t your typical networking event – we’re bringing together amazing women for an evening filled with laughter\, authentic connections\, and the powerful spirit of Womenship. \nFrom themed icebreakers to a luxe photo booth perfect for capturing memories\, every moment is designed to help you forge meaningful partnerships while embracing your inner boss. Enjoy delicious bites throughout the evening\, with a cash bar available for your favorite libations. \nYou’ll also get an exclusive introduction to EmpowerHER Life’s mission and learn how this movement is set to transform the Slidell community. Connect with women who share your drive for growth\, success\, and authentic relationships. \nRSVP & Get Tickets HERE \nDetails at a Glance: \n\nDate: February 12th\, 2024\nTime: 6:00 PM – 9:00 PM\nLocation: Sadie Jane (405 Country Club Blvd\, Slidell\, LA 70458)\nTicket Price: $49 (includes entry and food)\nLimited to 100 guests\n\nSecure your spot by February 5th – this is one offer you can’t refuse! Come discover the power of Womenship and be part of something bigger than yourself. \nRSVP & Get Tickets HERE
URL:https://empowerherlife.network/event/ehl-slidell-launch-party-mob-wives-galentines/
LOCATION:Copeland’s of New Orleans (Slidell)\, 1337 Gause Blvd\, Slidell\, LA\, 70458\, United States
CATEGORIES:Slidell,Special Event
ATTACH;FMTTYPE=image/png:https://empowerherlife.network/wp-content/uploads/2025/01/Event-Graphics-Website-Mob-Wives.png
END:VEVENT
END:VCALENDAR