BEGIN:VCALENDAR
VERSION:2.0
PRODID:-//EmpowerHER Life - ECPv6.15.20//NONSGML v1.0//EN
CALSCALE:GREGORIAN
METHOD:PUBLISH
X-ORIGINAL-URL:https://empowerherlife.network
X-WR-CALDESC:Events for EmpowerHER Life
REFRESH-INTERVAL;VALUE=DURATION:PT1H
X-Robots-Tag:noindex
X-PUBLISHED-TTL:PT1H
BEGIN:VTIMEZONE
TZID:America/Chicago
BEGIN:DAYLIGHT
TZOFFSETFROM:-0600
TZOFFSETTO:-0500
TZNAME:CDT
DTSTART:20240310T080000
END:DAYLIGHT
BEGIN:STANDARD
TZOFFSETFROM:-0500
TZOFFSETTO:-0600
TZNAME:CST
DTSTART:20241103T070000
END:STANDARD
BEGIN:DAYLIGHT
TZOFFSETFROM:-0600
TZOFFSETTO:-0500
TZNAME:CDT
DTSTART:20250309T080000
END:DAYLIGHT
BEGIN:STANDARD
TZOFFSETFROM:-0500
TZOFFSETTO:-0600
TZNAME:CST
DTSTART:20251102T070000
END:STANDARD
BEGIN:DAYLIGHT
TZOFFSETFROM:-0600
TZOFFSETTO:-0500
TZNAME:CDT
DTSTART:20260308T080000
END:DAYLIGHT
BEGIN:STANDARD
TZOFFSETFROM:-0500
TZOFFSETTO:-0600
TZNAME:CST
DTSTART:20261101T070000
END:STANDARD
END:VTIMEZONE
BEGIN:VEVENT
DTSTART;VALUE=DATE:20251211
DTEND;VALUE=DATE:20251213
DTSTAMP:20260419T161356
CREATED:20251007T171010Z
LAST-MODIFIED:20251007T171011Z
UID:4022-1765411200-1765583999@empowerherlife.network
SUMMARY:HER Power Within 2-Day Summit: Build Your 2026 Blueprint
DESCRIPTION:We’ve been dreamers. Now\, it’s time to build.HER Power Within is where dreaming meets doing. \nThis two-day immersive experience will help you clarify your goals\, strengthen your confidence\, and leave with a ready-to-execute 2026 business and content plan. Designed for women who are ready to step into the next level of leadership\, strategy\, and visibility — this is more than an event. It’s your reset button for the year ahead. \nGET TICKETS HERE \n\nTwo Days of Transformation\nValued at over $2\,500 in coaching\, consulting\, photography\, and branding strategy — offered exclusively to the EmpowerHER Life community at a fraction of the cost. \n\nDay One: Build Your 2026 Blueprint\nDate: Thursday\, December 11\, 2025Time: 8:30 AM – 4:00 PMLocation: Palette Northshore \nBy the end of Day One\, you won’t just have ideas — you’ll have a documented\, in-hand business blueprint for 2026. \nSessions include:✔️ Build Your 2026 Marketing Plan with Jonee Daigle Ferrand✔️ Confidence Reset with Debbie Denova✔️ Goal Setting + Vision Board Workshop with Meaghan Buntin✔️ Network ROI 2026 Plan with Amanda Delaup \nIncludes: coffee\, snacks\, drinks\, lunch\, journal\, and all vision board supplies. \nInvestment:Members $150 | Public $550 \nGET TICKETS HERE \n\nDay Two: The Content Lab\nDate: Friday\, December 12\, 2025Time: 8:30 AM – 1:00 PMLocation: Open Space Studios \nBy the end of Day Two\, you’ll walk away with a 90-day content system\, new brand visuals\, and the confidence. to show up with consistency and clarity. \nSessions include:✔️ Professional Headshot with Senja Drudge (yours to keep)✔️ Posing Workshop for confident content creation✔️ Story-Based Branding with Lexi Hartmann✔️ 90-Day Content Calendar with Zoe Naquin✔️ B-Roll Workshop with Desi Allums \nIncludes: coffee\, breakfast bar\, professional headshot\, and 90-day content calendar. \nInvestment:Members $200 | Public $750 \nGET TICKETS HERE \n\nBundle & Save\nBoth Days: Blueprint + Content LabMembers $250 | Public $1\,000 \nOnly 30 total seats available.Payment plans available through Klarna and Afterpay. \nGET TICKETS HERE \n\nWho It’s For\nWomen ready to build—not just dream.Entrepreneurs\, leaders\, and professionals looking for clear strategy\, practical tools\, and meaningful community. \n\nKey Takeaways\n\n\nA full 2026 business and marketing plan \n\n\nA personalized confidence and mindset reset \n\n\nA 90-day content calendar and brand system \n\n\nProfessional photos and content assets ready to launch \n\n\nA supportive circle of driven\, like-minded women \n\n\n\nHER Power Within: Build Your 2026 BlueprintTurn your goals into growth.Turn your vision into a plan.Turn your power within into what comes next. \nTickets are limited. Once they’re gone\, they’re gone.Save Your Seat Today. \nGET TICKETS HERE
URL:https://empowerherlife.network/event/her-power-within-2-day-summit-build-your-2026-blueprint/
LOCATION:Multiple Venues
CATEGORIES:Baton Rouge,Houma,New Orleans,Northshore,Slidell,Special Event
ATTACH;FMTTYPE=image/png:https://empowerherlife.network/wp-content/uploads/2025/10/EHL-Website-Banners-205-15-1.png
END:VEVENT
BEGIN:VEVENT
DTSTART;TZID=America/Chicago:20251208T050000
DTEND;TZID=America/Chicago:20251208T190000
DTSTAMP:20260419T161356
CREATED:20251201T145533Z
LAST-MODIFIED:20251201T145533Z
UID:4120-1765170000-1765220400@empowerherlife.network
SUMMARY:EHL New Orleans Holiday Soirée: Create Your Christmas Fascinator
DESCRIPTION:Get ready to sparkle\, sip\, and slay the season in true EmpowerHer Life fashion. As 2025 comes to a close\, we’re wrapping up the year with gratitude\, glam\, and a splash of holiday mischief at our New Orleans EHL Holiday Soirée: Create Your Christmas Fascinator! \n\n\nJoin us for a night of creativity\, laughter\, and connection inside the gorgeous Purple Tiger Boutique\, one of Metairie’s most stylish local gems. You’ll be guided by the incredibly talented Emily Tatum of Tatum’s Toppers\, the New Orleans artist known for her dazzling handmade fascinators\, festive headpieces\, and signature flair seen across film\, TV\, and celebrations citywide. \n\n\nWhat to Expect:\n 💋 A hands-on workshop where you’ll design your own one-of-a-kind Christmas fascinator — perfect for every parade\, party\, or holiday photoshoot. \n🎨 All supplies are included\, and Emily will walk you step-by-step through the creative process. \n🍾 Sip festive cocktail slush samples available. \n💃 Leave with your handmade masterpiece\, new memories\, and maybe a few new friends too. \n\n\n💜 Member Perk:\n Our friends at The Purple Tiger Boutique are giving 20% OFF all regular priced items to all that have created a topper that night\, the perfect excuse to grab something sparkly to match your new fascinator! \n\n\n🎟️ Tickets:\n\n$46.63 for EmpowerHer Life Members\n$51.81 for Non-Members\n\nPay to reserve your spot:\nNon-Members: Non EHL Members Christmas Headband Workshop at PTB 12/8: $51.81 each – Tatums Toppers LLC\n\nMembers:\nEHL Members Christmas Headband Workshop at PTB 12/8: $46.63 each – Tatums Toppers LLC\nSpaces are Limited to 20\n\nSeats are limited and this event will sell out.\nReserve your spot today and close out 2025 in style — fierce\, festive\, and fully YOU.
URL:https://empowerherlife.network/event/nola-holiday-soiree/
LOCATION:The Purple Tiger Boutique\, 3250 Severn Ave\, Metaire\, LA\, 70002\, United States
CATEGORIES:New Orleans,Special Event
ATTACH;FMTTYPE=image/png:https://empowerherlife.network/wp-content/uploads/2025/12/g824uhs28zi3sav1n9wdfn36lss8.png
END:VEVENT
BEGIN:VEVENT
DTSTART;TZID=America/Chicago:20250926T110000
DTEND;TZID=America/Chicago:20250926T190000
DTSTAMP:20260419T161356
CREATED:20250820T024600Z
LAST-MODIFIED:20250820T024746Z
UID:3779-1758884400-1758913200@empowerherlife.network
SUMMARY:BOOtique Spooktacular at The Southern Hotel
DESCRIPTION:Halloween starts early on the Northshore—and we’re here for it! 🎃 Join EmpowerHER Life at BOOtique Spooktacular\, a full day of shopping\, sips\, and spooky season fun at The Southern Hotel in Covington. \nEvent DetailsDate: Friday\, September 26\, 2025Time: 11:00 AM – 7:00 PM (VIP Shopping 9:00–11:00 AM)Location: The Southern Hotel\, Covington\, LACost: Free to attend | VIP tickets available July 1stWebsite: bootiquespooktacular.com \nWhat to Expect:– 40+ specialty vendors with Halloween finds– Pop-up entertainment\, live demos\, and music– “Northshore’s Best Pie” contest with a $1000 prize– Seasonal cocktails + signature Spooktacular drink in a collectible goblet– Kids Zone with not-so-scary fun for the littles– Dining options at The Gloriette or buyers lounge \n✨ And don’t forget—EHL will be there with a vendor table! Stop by\, say hi\, and connect with us while you shop. \nAdmission is free\, but guests are encouraged to bring a non-perishable food donation to support the Northshore Food Bank. \nKick off spooky season with your ghouls\, glam\, and a little EmpowerHER magic. We’ll see you there!
URL:https://empowerherlife.network/event/bootique-spooktacular-2025/
LOCATION:The Southern Hotel\, 428 E Boston St\, Covington\, LA\, 70433\, United States
CATEGORIES:Northshore,Special Event
ATTACH;FMTTYPE=image/png:https://empowerherlife.network/wp-content/uploads/2025/08/EHL-2025-September-Event-Graphics-Website-5.png
END:VEVENT
BEGIN:VEVENT
DTSTART;TZID=America/Chicago:20250918T190000
DTEND;TZID=America/Chicago:20250918T220000
DTSTAMP:20260419T161356
CREATED:20250820T025458Z
LAST-MODIFIED:20250820T030042Z
UID:3786-1758222000-1758232800@empowerherlife.network
SUMMARY:New Orleans Fashion Week: Indigo Fashion Show 2025
DESCRIPTION:EHL is showing up to support Indigo Boutique at their annual Indigo Fashion Show—and you don’t want to miss this night of style\, music\, and celebration in the heart of New Orleans. \nEvent DetailsDate: Thursday\, September 18\, 2025Time: Doors open at 7:00 PMLocation: Foundation Room at the House of BluesAddress: 225 Decatur St\, New Orleans\, LA 70130Cost: $50.00Tickets: Indigo Boutique Fashion Show Tickets \nWhat’s Happening:– Live music from Nell Simmons and DJ Jess– Fashion-forward runway looks from Indigo Boutique– Food and drinks included– A full night of energy\, style\, and community \nTickets will not be shipped—your receipt will be texted or emailed to you. Just print it and bring it to the door for entry. Select Store Pickup at checkout. \n✨ Join us as we support Indigo and take part in the biggest fashion party of the year!
URL:https://empowerherlife.network/event/new-orleans-fashion-week-indigo-fashion-show-2025/
LOCATION:Foundation Room at the House of Blues\, 225 Decatur St\, New Orleans\, LA\, 70130\, United States
CATEGORIES:New Orleans,Special Event
ATTACH;FMTTYPE=image/png:https://empowerherlife.network/wp-content/uploads/2025/08/EHL-2025-September-Event-Graphics-Website-6.png
END:VEVENT
BEGIN:VEVENT
DTSTART;TZID=America/Chicago:20250918T090000
DTEND;TZID=America/Chicago:20250918T150000
DTSTAMP:20260419T161356
CREATED:20250807T022008Z
LAST-MODIFIED:20250902T173132Z
UID:3676-1758186000-1758207600@empowerherlife.network
SUMMARY:Summit Day at Palette Northshore
DESCRIPTION:Get ready for a full day of growth\, connection\, and clarity at Summit Day—a mini retreat packed with workshops\, networking\, and practical tools to help you lead with purpose in every area of your life. \nEvent DetailsDate: Thursday\, September 18\, 2025Time: 9:00 AM – 3:00 PMLocation: Palette NorthshoreAddress: 201 Holiday Blvd\, Covington\, LA 70433Cost: $55 for members | $75 for non-membersCapacity: 40 guestsAttire: Leisure wea \nCLICK HERE TO RESERVE YOUR SEAT \nFuel your mind\, business\, and personal goals with a full schedule of high-impact sessions\, led by women who walk the walk. Emcee by Amanda Delaup. Catered lunch by Turgeau’s and curated vendor experiences included. \nAgenda Highlights:– What’s Your Filter? with Kat Parker– You Don’t Have to Be Loud to Lead with Jennifer Meadows– Credit Confidence with Rockie– The Half- Hour Habitat: How to Win Your Week Before it Starts in 30 Minutes or Less with Anna Dearmon Kornick– The 90 Day Breakthrough with Desi Allums \nPlus:– 9:00–9:45: Connection Hour– 1:45–3:00: Closing \nWhether you’re building a business\, navigating life changes\, or just ready for a reset\, Summit Day gives you the space\, strategy\, and support to take your next step with confidence. \nSpots are limited—save yours today. \nCLICK HERE TO SAVE YOUR SEAT
URL:https://empowerherlife.network/event/ehl-summit-palette/
LOCATION:Palette Northshore\, 201 Holiday Blvd\, Covington\, LA\, 70433\, United States
CATEGORIES:Northshore,Retreat,Special Event
ATTACH;FMTTYPE=image/png:https://empowerherlife.network/wp-content/uploads/2025/08/Copy-of-EHL-2025-Q3-Event-Graphics-Website-2.png
END:VEVENT
BEGIN:VEVENT
DTSTART;TZID=America/Chicago:20250909T113000
DTEND;TZID=America/Chicago:20250909T130000
DTSTAMP:20260419T161356
CREATED:20250820T023251Z
LAST-MODIFIED:20250820T023746Z
UID:3767-1757417400-1757422800@empowerherlife.network
SUMMARY:PWST Luncheon with Desi Allums
DESCRIPTION:Get ready for a high-impact afternoon. EHL is headed to PWST’s September lunch & learn at Beau Chene Country Club. Why\, you might ask? Well\, besides being one of our favorite local women’s organizations and the fact that they can always be counted on to present incredible speakers and events\, our very own founder & CEO Desi Allums will be speaking! \nYou may know her as our fearless leader\, but with more than 20 years in sales\, leadership\, and human capital strategy\, Desi is also known for helping companies pivot\, scale\, and lead with purpose. Her bold\, authentic approach empowers women to think bigger\, act with clarity\, and step fully into their leadership. (We’re not surprised there\, of course) \n \nEvent DetailsDate: Tuesday\, September 9\, 2025Time: 11:30 AM – 1:00 PMLocation: Beau Chene Country ClubWho Can Come: PWST Members + Guests \nWhether you’re building your business\, refining your leadership style\, or preparing for your next big move\, this session will leave you equipped and inspired to lead with confidence. \nSeats are limited—reserve yours today over on the PWST Website here: Register Here
URL:https://empowerherlife.network/event/pwst-luncheon-with-desi-allums/
LOCATION:Beau Chene Country Club\, 602 N Beau Chene Dr\, Mandeville\, LA\, 70471\, United States
CATEGORIES:Northshore,Special Event
ATTACH;FMTTYPE=image/png:https://empowerherlife.network/wp-content/uploads/2025/08/EHL-2025-September-Event-Graphics-Website-4.png
END:VEVENT
BEGIN:VEVENT
DTSTART;TZID=America/Chicago:20250817T110000
DTEND;TZID=America/Chicago:20250817T150000
DTSTAMP:20260419T161356
CREATED:20250807T032003Z
LAST-MODIFIED:20250807T033018Z
UID:3703-1755428400-1755442800@empowerherlife.network
SUMMARY:Special Event: EHL x Leblon Pool Party
DESCRIPTION:We’re closing out summer the best way we know how—with sunshine\, sisterhood\, and poolside vibes. \nJoin EmpowerHER Life and Maryanna Leonard\, owner of LeBlon Boutique\, for a surprise members-only pool party you won’t want to miss. Maryanna is turning up the heat with a private chef grilling poolside while we soak\, sip\, and celebrate the end of the season together. \nEvent DetailsDate: August 17\, 2025Time: 11:00amLocation: Private residence (address provided after RSVP)Cost: Free for membersWho Can Come: Members only \nRSVP HERE \nExpect a laid-back atmosphere\, amazing food\, cold drinks\, and great conversation with women who just get it. \nSpace is limited—RSVP now to claim your spot. Let’s float\, laugh\, and send off summer in style. \nRSVP HERE
URL:https://empowerherlife.network/event/special-event-ehl-x-leblon-pool-party/
LOCATION:Private – Address to Be Sent After RSVP
CATEGORIES:Northshore,Special Event
ATTACH;FMTTYPE=image/png:https://empowerherlife.network/wp-content/uploads/2025/08/Copy-of-EHL-2025-Q3-Event-Graphics-Website-8.png
END:VEVENT
BEGIN:VEVENT
DTSTART;TZID=America/Chicago:20250725T190000
DTEND;TZID=America/Chicago:20250725T220000
DTSTAMP:20260419T161356
CREATED:20250605T201010Z
LAST-MODIFIED:20250624T180809Z
UID:3398-1753470000-1753480800@empowerherlife.network
SUMMARY:Cirque du EmpowerHER - Celebrating 2 Years of Womenship
DESCRIPTION:Step right up for the most unforgettable night of the summer—Cirque du EmpowerHER is here. \nWe’re celebrating two bold\, powerful years of EmpowerHER Life with a full-scale anniversary party like no other. Open to the public and built for fun\, this circus-themed evening is packed with immersive entertainment\, great food\, and community vibes you won’t find anywhere else. \nEvent DetailsDate: Friday\, July 25\, 2025Time: 7:00–10:00 PMLocation: Fleur De Lis Center\, MandevilleDress Code: Circus-inspired attire (yes—go all out) \nTICKETS AVAILABLE HERE \nTicket OptionsAll tickets include dinner\, beer\, wine\, champagne\, and full access to all entertainment (cash bar available for liquor). \nFounders– Single: $99– Couples: $180 \nMembers– Single: $115– Couples: $200 \nPublic– Single: $125– Couples: $225 \nWhat to Expect \n– Glitter Bar by Butterfly FX– DJ + dance floor– AI photo booth + photo ops– Champagne wall– LED lightshow performers– Jugglers\, stilt walkers\, fortune teller– Cotton candy\, candy apples\, popcorn– A special slideshow looking back on 2 years of EmpowerHER Life \nWhether you come solo or bring your partner\, this is a night to connect\, celebrate\, and play big. We’re throwing the tent wide open—come experience the magic\, meet the community\, and see what EmpowerHER Life is all about. \nTickets are on sale now and expected to sell out. Grab yours before they’re gone. \nTICKETS AVAILABLE HERE
URL:https://empowerherlife.network/event/ehl-2-year-anniversary/
LOCATION:Fleur de Lis Event Center\, 1645 N Causeway Blvd\, Mandeville\, LA\, 70470\, United States
CATEGORIES:Baton Rouge,Houma,New Orleans,Northshore,Slidell,Special Event
ATTACH;FMTTYPE=image/png:https://empowerherlife.network/wp-content/uploads/2025/06/EHL-Website-Banners-205-7.png
END:VEVENT
BEGIN:VEVENT
DTSTART;TZID=America/Chicago:20250626T180000
DTEND;TZID=America/Chicago:20250626T200000
DTSTAMP:20260419T161356
CREATED:20250531T025040Z
LAST-MODIFIED:20250604T024510Z
UID:3332-1750960800-1750968000@empowerherlife.network
SUMMARY:EmpowerHER Life Baton Rouge Launch Party
DESCRIPTION:We’re bringing EmpowerHER Life to Baton Rouge—and you’re invited to the launch party. Join us for an unforgettable evening filled with connection\, community\, and celebration as we kick off something special in your city. \nEvent DetailsDate: Thursday\, June 26\, 2025Time: 6:00–8:00 PMLocation: Luna CocinaAddress: 3109 Perkins Rd\, Baton Rouge\, LA 70808Cost:– Members: $55– Non-Members: $65– Founders: $50– At the Door: $75 \nTICKETS AVAILABLE HERE  \nYour ticket includes entry\, a glass of champagne on arrival\, hors d’oeuvres bar. Expect a lively atmosphere with a DJ\, exciting giveaways\, and more. \nThe dress code is All White\, so come dressed to impress and ready to meet women who are all about building something real. \nLet’s toast to new beginnings and create a space where support\, growth\, and connection take center stage. \nTickets are limited—grab yours now and be part of the Baton Rouge launch. \nPURCHASE TICKETS HERE
URL:https://empowerherlife.network/event/ehl-baton-rouge-launch/
LOCATION:Luna Cocina\, 3109 Perkins Rd\, Baton Rouge\, 70808\, United States
CATEGORIES:Baton Rouge,Houma,New Orleans,Northshore,Slidell,Special Event
ATTACH;FMTTYPE=image/png:https://empowerherlife.network/wp-content/uploads/2025/05/EHL-Website-Banners-205-5.png
END:VEVENT
BEGIN:VEVENT
DTSTART;TZID=America/Chicago:20250611T110000
DTEND;TZID=America/Chicago:20250611T130000
DTSTAMP:20260419T161356
CREATED:20250520T223024Z
LAST-MODIFIED:20250602T154515Z
UID:3277-1749639600-1749646800@empowerherlife.network
SUMMARY:Elevate & Connect: EmpowerHER Life Houma Turns ONE!
DESCRIPTION:We’re turning one—and you’re on the guest list. Join us for a special anniversary lunch that brings together everything we love about this community: connection\, conversation\, and celebration. Whether you’ve been with us since day one or just getting started\, you’ll feel right at home. \nEvent DetailsDate: June 11\, 2025Time: 11:00 AM – 1:00 PMLocation: Ellendale Country ClubAddress: 3319 LA-311Cost: $35 for members\, $45 for non-membersTickets: Register Here \nWe’re making this milestone count with:– A beautiful anniversary cake– Interactive ice breakers– Meaningful table talk sessions– A dynamic Q&A panel with past Women of the Month– A curated mix of local vendors– A special slideshow to celebrate our journey– A ConnectHER networking moment– And a BIG raffle giveaway you’ll want in on \nThis is more than a lunch—it’s a celebration of everything we’ve built together. Come eat\, connect\, and raise a glass to year one. \nClick here to register now and save your seat \n 
URL:https://empowerherlife.network/event/houma-anniversary-party/
LOCATION:Ellendale Country Club\, 3319 LA-311\, Houma\, LA\, 70360\, United States
CATEGORIES:Elevate & Connect,Houma,Special Event
ATTACH;FMTTYPE=image/jpeg:https://empowerherlife.network/wp-content/uploads/2025/05/EHL-Website-Banners-205-scaled.jpg
END:VEVENT
BEGIN:VEVENT
DTSTART;TZID=America/Chicago:20250522T190000
DTEND;TZID=America/Chicago:20250522T203000
DTSTAMP:20260419T161356
CREATED:20250424T154734Z
LAST-MODIFIED:20250505T153723Z
UID:3155-1747940400-1747945800@empowerherlife.network
SUMMARY:NOLA: EHL New Orleans Launch Party
DESCRIPTION:We’re Coming to New Orleans! Join Us for the Official Launch Party \nWe’re celebrating the start of something new—EmpowerHER Life is launching in New Orleans\, and you’re invited to the poolside party that kicks it all off. \nEvent DetailsDate: May 22\, 2025Time: 7:00 – 8:30 PMLocation: Blackbird Hotel\, 1612 Prytania St.\, New OrleansRegister Here \nYour ticket includes hors d’oeuvres\, a welcome vibe that feels like summer\, and a front-row spot as we welcome the NOLA community into the mix. Cash bar available. \nAttire: Palm Royle-inspired—channel bold prints\, vintage glam\, and playful confidence.Setting: Poolside\, outdoors\, and full of good energy. \nTickets:$50 General Admission$45 Members$40 Founders \nCome ready to connect\, celebrate\, and see what’s ahead. \nRSVP TODAY
URL:https://empowerherlife.network/event/ehl-new-orleans-launch-party/
LOCATION:Blackbird Hotel\, 1612 Prytania St.\, New Orleans\, LA\, 70130\, United States
CATEGORIES:Houma,New Orleans,Northshore,Slidell,Special Event
ATTACH;FMTTYPE=image/png:https://empowerherlife.network/wp-content/uploads/2025/04/EHL-2025-05-Event-Graphics-Website-3.png
END:VEVENT
BEGIN:VEVENT
DTSTART;TZID=America/Chicago:20250430T093000
DTEND;TZID=America/Chicago:20250430T160000
DTSTAMP:20260419T161356
CREATED:20250306T063200Z
LAST-MODIFIED:20250410T053804Z
UID:2908-1746005400-1746028800@empowerherlife.network
SUMMARY:HER Power Within: A ONE Day Breakthrough Summit
DESCRIPTION:HER Power Within Conference: A One Breakthrough Summit\nStep into your power and experience THE BREAKTHROUGH at the HER Power Within Conference\, a transformational summit designed for women ready to elevate their lives\, careers\, and leadership. This is more than an event—it’s a movement\, a catalyst for change\, and a space where breakthroughs happen. \nWhat to Expect: \n\nPowerful Keynote Speakers sharing game-changing insights and strategies\nHands-on Workshops designed to equip you with tools for success\nDynamic Networking with ambitious\, like-minded women\nA High-Energy Atmosphere that will inspire and challenge you to level up\n\nYour Hosts & Speakers: \n\nEmcee: Kevinnie Dreher – Bringing energy\, wisdom\, and inspiration to the stage\nKeynote Speakers: Mary Jane Walsh & Debbie Denova – Experts in leadership\, mindset\, and transformation\nWorkshops Led By: Brittany Ramos\, Jenna Guerrero\, & Desi Allums – Guiding you through powerful\, actionable sessions\n\nEvent Details: \n\nLocation: Ellendale Country Club\, Houma\, LA\nDate & Time: 9:30 AM – 4:00 PM\nCheck-in: 9:30 AM – Arrive on time to connect and prepare for an unforgettable day\nLunch Provided – Enjoy a curated meal while building meaningful relationships\n\nEARLY BIRD PRICING: (Ends March 31st) \n\nFounders: $79\nMembers: $99\nNon-Members: $125\n\nThis is your time to step into clarity\, confidence\, and action. Get ready for a life-changing experience that will leave you empowered\, motivated\, and ready to break through to your next level. \nYour breakthrough starts here! Don’t miss this opportunity to be part of a powerful day of growth\, connection\, and transformation. \nREGISTER HERE -> https://lp.constantcontactpages.com/ev/reg/c4zsmxr/lp/a402ae5b-7be4-4233-9a45-2245b53c82b9
URL:https://empowerherlife.network/event/her-power-within-a-one-day-breakthrough-summit/
LOCATION:Ellendale Country Club\, 3319 LA-311\, Houma\, LA\, 70360\, United States
CATEGORIES:Founders Club,Houma,New Orleans,Northshore,Slidell,Special Event
ATTACH;FMTTYPE=image/jpeg:https://empowerherlife.network/wp-content/uploads/2025/03/All-Speakers-Horizontal-All-Purpose-scaled.jpg
END:VEVENT
BEGIN:VEVENT
DTSTART;TZID=America/Chicago:20250212T180000
DTEND;TZID=America/Chicago:20250212T210000
DTSTAMP:20260419T161356
CREATED:20250119T165637Z
LAST-MODIFIED:20250202T172524Z
UID:2530-1739383200-1739394000@empowerherlife.network
SUMMARY:EHL Slidell Launch Party: Mob Wives Galentines
DESCRIPTION:Get ready for a night of glamour\, connection\, and celebration as EmpowerHER Life makes its grand entrance into Slidell! Join us for Power and Partnerships: The EmpowerHER Life Mob Wives Galentine’s Party at the stunning Sadie Jane. \nMark your calendar for February 12th\, 6-9 PM\, and prepare to be part of something extraordinary. This isn’t your typical networking event – we’re bringing together amazing women for an evening filled with laughter\, authentic connections\, and the powerful spirit of Womenship. \nFrom themed icebreakers to a luxe photo booth perfect for capturing memories\, every moment is designed to help you forge meaningful partnerships while embracing your inner boss. Enjoy delicious bites throughout the evening\, with a cash bar available for your favorite libations. \nYou’ll also get an exclusive introduction to EmpowerHER Life’s mission and learn how this movement is set to transform the Slidell community. Connect with women who share your drive for growth\, success\, and authentic relationships. \nRSVP & Get Tickets HERE \nDetails at a Glance: \n\nDate: February 12th\, 2024\nTime: 6:00 PM – 9:00 PM\nLocation: Sadie Jane (405 Country Club Blvd\, Slidell\, LA 70458)\nTicket Price: $49 (includes entry and food)\nLimited to 100 guests\n\nSecure your spot by February 5th – this is one offer you can’t refuse! Come discover the power of Womenship and be part of something bigger than yourself. \nRSVP & Get Tickets HERE
URL:https://empowerherlife.network/event/ehl-slidell-launch-party-mob-wives-galentines/
LOCATION:Copeland’s of New Orleans (Slidell)\, 1337 Gause Blvd\, Slidell\, LA\, 70458\, United States
CATEGORIES:Slidell,Special Event
ATTACH;FMTTYPE=image/png:https://empowerherlife.network/wp-content/uploads/2025/01/Event-Graphics-Website-Mob-Wives.png
END:VEVENT
END:VCALENDAR