BEGIN:VCALENDAR
VERSION:2.0
PRODID:-//EmpowerHER Life - ECPv6.15.20//NONSGML v1.0//EN
CALSCALE:GREGORIAN
METHOD:PUBLISH
X-WR-CALNAME:EmpowerHER Life
X-ORIGINAL-URL:https://empowerherlife.network
X-WR-CALDESC:Events for EmpowerHER Life
REFRESH-INTERVAL;VALUE=DURATION:PT1H
X-Robots-Tag:noindex
X-PUBLISHED-TTL:PT1H
BEGIN:VTIMEZONE
TZID:America/Chicago
BEGIN:DAYLIGHT
TZOFFSETFROM:-0600
TZOFFSETTO:-0500
TZNAME:CDT
DTSTART:20240310T080000
END:DAYLIGHT
BEGIN:STANDARD
TZOFFSETFROM:-0500
TZOFFSETTO:-0600
TZNAME:CST
DTSTART:20241103T070000
END:STANDARD
BEGIN:DAYLIGHT
TZOFFSETFROM:-0600
TZOFFSETTO:-0500
TZNAME:CDT
DTSTART:20250309T080000
END:DAYLIGHT
BEGIN:STANDARD
TZOFFSETFROM:-0500
TZOFFSETTO:-0600
TZNAME:CST
DTSTART:20251102T070000
END:STANDARD
BEGIN:DAYLIGHT
TZOFFSETFROM:-0600
TZOFFSETTO:-0500
TZNAME:CDT
DTSTART:20260308T080000
END:DAYLIGHT
BEGIN:STANDARD
TZOFFSETFROM:-0500
TZOFFSETTO:-0600
TZNAME:CST
DTSTART:20261101T070000
END:STANDARD
BEGIN:DAYLIGHT
TZOFFSETFROM:-0600
TZOFFSETTO:-0500
TZNAME:CDT
DTSTART:20270314T080000
END:DAYLIGHT
BEGIN:STANDARD
TZOFFSETFROM:-0500
TZOFFSETTO:-0600
TZNAME:CST
DTSTART:20271107T070000
END:STANDARD
END:VTIMEZONE
BEGIN:VEVENT
DTSTART;TZID=America/Chicago:20260116T090000
DTEND;TZID=America/Chicago:20260116T150000
DTSTAMP:20260419T211305
CREATED:20251215T173919Z
LAST-MODIFIED:20260109T055255Z
UID:4159-1768554000-1768575600@empowerherlife.network
SUMMARY:Esther’s Call Retreat
DESCRIPTION:Join us for a powerful\, spirit-filled day designed to bring women closer to God\, closer to themselves\, and closer to the life they’re called to lead. The Esther’s Call Retreat blends faith\, healing\, and intentional living through heartfelt teachings\, storytelling\, and community connection. \n\n\nThis retreat is for women seeking renewal\, clarity\, and a deeper spiritual foundation. You’ll hear powerful testimonies from five speakers who have walked through pain\, found redemption\, and allowed God to rebuild their identity and purpose. \n\nBy the end of the day\, you’ll leave anchored\, renewed\, and spiritually aligned — strengthened by faith and supported by a community of women who understand the journey.\nEvent Details\nTime: 9:00 AM – 3:00 PM\nAccess: Open to the Public\nCost: $99\nLocation: TBD\nYour Ticket Includes:\n\nCoffee\nLunch & beverages\n\nFeatured Speakers\nEach woman brings a testimony of faith\, resilience\, and transformation:\n\nAmanda Delaup – Business & Faith\nDesi Allums – God Didn’t Cancel You\nNichole Doyle – Thrive Anyway; Turning Trials into Territory\nPam Rivet – Awakening; The God-Given Identity of the Woman Behind the Cape\nNatalie Bickel – When God Says Stop\n\nWhat You’ll Experience\n\nStories that reveal God’s ability to restore\, redirect\, and renew\nPractical and spiritual tools for healing and intentional living\nA peaceful\, nurturing environment for reflection and growth\nConnection with other faith-filled women\nA renewed sense of identity\, purpose\, and spiritual grounding\n\nCome expectant.\nLeave strengthened\, supported\, and aligned with the woman God is calling you to become.
URL:https://empowerherlife.network/event/esthers-call-retreat/
LOCATION:Palette Northshore\, 201 Holiday Blvd\, Covington\, LA\, 70433\, United States
CATEGORIES:Baton Rouge,Esther's Call,Houma,New Orleans,Northshore,Retreat,Slidell
ATTACH;FMTTYPE=image/png:https://empowerherlife.network/wp-content/uploads/2025/12/EHL-MASTER-Event-Graphics-Website-33.png
END:VEVENT
BEGIN:VEVENT
DTSTART;TZID=America/Chicago:20260108T173000
DTEND;TZID=America/Chicago:20260108T203000
DTSTAMP:20260419T211305
CREATED:20251217T012240Z
LAST-MODIFIED:20251230T100828Z
UID:4190-1767893400-1767904200@empowerherlife.network
SUMMARY:Virtual Her Power Within Build Your 2026 Blueprint
DESCRIPTION:The Virtual Blueprint Summit is a live\, guided\, 4-hour experience designed to help you reset your confidence\, clarify your focus\, and leave with a real blueprint for 2026; one you can actually execute. \nNo guest speakers. No distractions. No recycled advice. \nJust you\, your notebook\, and a proven framework led by Desi Allums\, Founder of EmpowerHER Life. \nWhat You’ll Experience This summit walks you through the same transformational pillars as our in-person experience thoughtfully integrated into one cohesive virtual journey. You will be guided through: \nA Confidence Reset: A grounded reset that helps you rebuild self-trust\, release what shook you this year\, and walk into 2026 steady\, capable\, and clear. \nIntentional Goal Setting: You’ll stop setting vague goals and start choosing focused outcomes personal and professional that actually move your life forward. \nThe 2026 Clarity Code™: A decision-making framework used by high-performing leaders to eliminate overthinking\, conserve energy\, and move with certainty. You’ll leave knowing how to decide not just what you want. \nExecutable 2026 Marketing Plan: No “be everywhere” advice. No trends to chase. You’ll identify: • One platform • One message • One weekly rhythm Marketing that supports your goals instead of draining you. \nNetworking → ROI: You’ll learn how to turn conversations into opportunity — without being transactional or uncomfortable. This session reframes networking as leadership\, proximity\, and alignment. It’s time you start deciding what rooms do you really need to be in. \nThe Disruptive 2026 Profit Blueprint™ This is not about hustling harder or creating more offers. You’ll learn: • Why profit is built from bottlenecks • How to simplify\, systemize\, and scale • How to calculate TRUE profit (including your energy) You will leave with a profit blueprint you can begin implementing immediately. \nBuild HER — The Close The summit ends with a powerful\, grounded close that ties everything together and sends you into 2026 with clarity\, confidence\, and momentum. \nWho This Is For This experience is for women who:\n• Are ready to lead their life and business with intention\n• Want clarity without chaos\n• Are building a business\, career\, or personal brand\n• Are done overthinking and ready to execute\n• Want a plan that aligns faith\, leadership\, and strategy\n• Can’t attend in person — but still want the full experience You don’t need to be “ready.” You just need to be willing to show up. \nWhat You’ll Walk Away With\n✔ A reset sense of confidence and self-trust\n✔ Clear goals for 2026\n✔ A decision-making system you’ll use all year\n✔A simple marketing plan you can sustain\n✔ A new way to leverage your network\n✔ A profit blueprint\n✔ Momentum — not overwhelm \nEvent Details: January 8th\nTime: 2:00 PM – 5:00 PM CST\nLocation: Live Virtual Experience\nCost $49\nWork Sheets Provided\nReplay available \nRegister Here: https://app.ehl.network/checkout/virtual-hpw
URL:https://empowerherlife.network/event/virtual-her-power-within-build-your-2026-blueprint/
LOCATION:Virtual – RSVP for Zoom Link
CATEGORIES:Baton Rouge,Houma,New Orleans,Northshore,Retreat,Slidell,Virtual
ATTACH;FMTTYPE=image/jpeg:https://empowerherlife.network/wp-content/uploads/2025/12/Copy-of-Zoe-Naquin-Facebook-Cover-2.jpg
END:VEVENT
BEGIN:VEVENT
DTSTART;TZID=America/Chicago:20250918T090000
DTEND;TZID=America/Chicago:20250918T150000
DTSTAMP:20260419T211305
CREATED:20250807T022008Z
LAST-MODIFIED:20250902T173132Z
UID:3676-1758186000-1758207600@empowerherlife.network
SUMMARY:Summit Day at Palette Northshore
DESCRIPTION:Get ready for a full day of growth\, connection\, and clarity at Summit Day—a mini retreat packed with workshops\, networking\, and practical tools to help you lead with purpose in every area of your life. \nEvent DetailsDate: Thursday\, September 18\, 2025Time: 9:00 AM – 3:00 PMLocation: Palette NorthshoreAddress: 201 Holiday Blvd\, Covington\, LA 70433Cost: $55 for members | $75 for non-membersCapacity: 40 guestsAttire: Leisure wea \nCLICK HERE TO RESERVE YOUR SEAT \nFuel your mind\, business\, and personal goals with a full schedule of high-impact sessions\, led by women who walk the walk. Emcee by Amanda Delaup. Catered lunch by Turgeau’s and curated vendor experiences included. \nAgenda Highlights:– What’s Your Filter? with Kat Parker– You Don’t Have to Be Loud to Lead with Jennifer Meadows– Credit Confidence with Rockie– The Half- Hour Habitat: How to Win Your Week Before it Starts in 30 Minutes or Less with Anna Dearmon Kornick– The 90 Day Breakthrough with Desi Allums \nPlus:– 9:00–9:45: Connection Hour– 1:45–3:00: Closing \nWhether you’re building a business\, navigating life changes\, or just ready for a reset\, Summit Day gives you the space\, strategy\, and support to take your next step with confidence. \nSpots are limited—save yours today. \nCLICK HERE TO SAVE YOUR SEAT
URL:https://empowerherlife.network/event/ehl-summit-palette/
LOCATION:Palette Northshore\, 201 Holiday Blvd\, Covington\, LA\, 70433\, United States
CATEGORIES:Northshore,Retreat,Special Event
ATTACH;FMTTYPE=image/png:https://empowerherlife.network/wp-content/uploads/2025/08/Copy-of-EHL-2025-Q3-Event-Graphics-Website-2.png
END:VEVENT
BEGIN:VEVENT
DTSTART;TZID=America/Chicago:20250130T090000
DTEND;TZID=America/Chicago:20250130T160000
DTSTAMP:20260419T211305
CREATED:20241223T144800Z
LAST-MODIFIED:20250122T161606Z
UID:2392-1738227600-1738252800@empowerherlife.network
SUMMARY:Founders Club Day Retreat
DESCRIPTION:Join us for an intimate\, transformative day at the beautiful ZA Ranch\, exclusively for our Founders Club members. This carefully curated retreat combines strategic insight\, personal development\, and meaningful connection in a serene setting where visionaries and leaders come together to shape the future of womenship. \nCLICK HERE TO REGISTER \nWhat Makes This Day Special: \n\nBe part of history as we record our first-ever Womenship Dialogue live with our City Ambassadors\nGain powerful insights through an Enneagram session with CEO Desi Allums\nDive deep into financial strategy and planning\nConnect authentically with fellow Founders Club members through guided exercises\nEnd the day with an intimate fireside chat with our CEO\n\nYour Retreat Experience Includes: \n\nFull day of immersive programming\nCoffee bar\nWater and non-alcoholic beverages\nMimosa bar\nLight breakfast and lunch\n\n📝 Event Details: \n\nDate: Thursday\, January 30th\, 2025\nTime: 9:00 AM – 4:00 PM\nLocation: ZA Ranch\, 85432 Hwy 1129\, Covington\, LA 70435\nInvestment: $130\nWho: Founders Club Members Only\n\nSpace is limited to ensure an intimate experience. Don’t miss this opportunity to connect deeply with your fellow Founders Club members and help shape the future of EmpowerHer Life. \nCLICK HERE TO REGISTER
URL:https://empowerherlife.network/event/founders-club-jan/
LOCATION:ZA Ranch\, 85432 Hwy 1129\, Covington\, LA\, 70435\, United States
CATEGORIES:Founders Club,Houma,Northshore,Retreat
ATTACH;FMTTYPE=image/png:https://empowerherlife.network/wp-content/uploads/2024/12/1.png
END:VEVENT
END:VCALENDAR