BEGIN:VCALENDAR
VERSION:2.0
PRODID:-//EmpowerHER Life - ECPv6.15.20//NONSGML v1.0//EN
CALSCALE:GREGORIAN
METHOD:PUBLISH
X-ORIGINAL-URL:https://empowerherlife.network
X-WR-CALDESC:Events for EmpowerHER Life
REFRESH-INTERVAL;VALUE=DURATION:PT1H
X-Robots-Tag:noindex
X-PUBLISHED-TTL:PT1H
BEGIN:VTIMEZONE
TZID:America/Chicago
BEGIN:DAYLIGHT
TZOFFSETFROM:-0600
TZOFFSETTO:-0500
TZNAME:CDT
DTSTART:20250309T080000
END:DAYLIGHT
BEGIN:STANDARD
TZOFFSETFROM:-0500
TZOFFSETTO:-0600
TZNAME:CST
DTSTART:20251102T070000
END:STANDARD
BEGIN:DAYLIGHT
TZOFFSETFROM:-0600
TZOFFSETTO:-0500
TZNAME:CDT
DTSTART:20260308T080000
END:DAYLIGHT
BEGIN:STANDARD
TZOFFSETFROM:-0500
TZOFFSETTO:-0600
TZNAME:CST
DTSTART:20261101T070000
END:STANDARD
BEGIN:DAYLIGHT
TZOFFSETFROM:-0600
TZOFFSETTO:-0500
TZNAME:CDT
DTSTART:20270314T080000
END:DAYLIGHT
BEGIN:STANDARD
TZOFFSETFROM:-0500
TZOFFSETTO:-0600
TZNAME:CST
DTSTART:20271107T070000
END:STANDARD
END:VTIMEZONE
BEGIN:VEVENT
DTSTART;TZID=America/Chicago:20260121T083000
DTEND;TZID=America/Chicago:20260121T213000
DTSTAMP:20260423T122258
CREATED:20251215T174416Z
LAST-MODIFIED:20251215T181258Z
UID:4168-1768984200-1769031000@empowerherlife.network
SUMMARY:Esther's Call Virtual Bible Study
DESCRIPTION:Join us for Esther’s Call\, a weekly virtual devotional created for women who want to grow in faith\, find grounding in truth\, and connect with a supportive spiritual community. \n\n\nEach session offers space to pause\, reflect\, and realign — helping you start your week with clarity\, peace\, and purpose. Whether you’re deep in your faith journey or just beginning\, this gathering is a place to feel seen\, supported\, and renewed. \n\nFree and open to all women.\nCome as you are\, and leave encouraged\, strengthened\, and connected.
URL:https://empowerherlife.network/event/esthers-call-virtual-bible-study-2/
LOCATION:Online Via Zoom
CATEGORIES:Esther's Call,Northshore
ATTACH;FMTTYPE=image/png:https://empowerherlife.network/wp-content/uploads/2025/12/EHL-MASTER-Event-Graphics-Website-28.png
END:VEVENT
BEGIN:VEVENT
DTSTART;TZID=America/Chicago:20260116T090000
DTEND;TZID=America/Chicago:20260116T150000
DTSTAMP:20260423T122258
CREATED:20251215T173919Z
LAST-MODIFIED:20260109T055255Z
UID:4159-1768554000-1768575600@empowerherlife.network
SUMMARY:Esther’s Call Retreat
DESCRIPTION:Join us for a powerful\, spirit-filled day designed to bring women closer to God\, closer to themselves\, and closer to the life they’re called to lead. The Esther’s Call Retreat blends faith\, healing\, and intentional living through heartfelt teachings\, storytelling\, and community connection. \n\n\nThis retreat is for women seeking renewal\, clarity\, and a deeper spiritual foundation. You’ll hear powerful testimonies from five speakers who have walked through pain\, found redemption\, and allowed God to rebuild their identity and purpose. \n\nBy the end of the day\, you’ll leave anchored\, renewed\, and spiritually aligned — strengthened by faith and supported by a community of women who understand the journey.\nEvent Details\nTime: 9:00 AM – 3:00 PM\nAccess: Open to the Public\nCost: $99\nLocation: TBD\nYour Ticket Includes:\n\nCoffee\nLunch & beverages\n\nFeatured Speakers\nEach woman brings a testimony of faith\, resilience\, and transformation:\n\nAmanda Delaup – Business & Faith\nDesi Allums – God Didn’t Cancel You\nNichole Doyle – Thrive Anyway; Turning Trials into Territory\nPam Rivet – Awakening; The God-Given Identity of the Woman Behind the Cape\nNatalie Bickel – When God Says Stop\n\nWhat You’ll Experience\n\nStories that reveal God’s ability to restore\, redirect\, and renew\nPractical and spiritual tools for healing and intentional living\nA peaceful\, nurturing environment for reflection and growth\nConnection with other faith-filled women\nA renewed sense of identity\, purpose\, and spiritual grounding\n\nCome expectant.\nLeave strengthened\, supported\, and aligned with the woman God is calling you to become.
URL:https://empowerherlife.network/event/esthers-call-retreat/
LOCATION:Palette Northshore\, 201 Holiday Blvd\, Covington\, LA\, 70433\, United States
CATEGORIES:Baton Rouge,Esther's Call,Houma,New Orleans,Northshore,Retreat,Slidell
ATTACH;FMTTYPE=image/png:https://empowerherlife.network/wp-content/uploads/2025/12/EHL-MASTER-Event-Graphics-Website-33.png
END:VEVENT
BEGIN:VEVENT
DTSTART;TZID=America/Chicago:20260107T083000
DTEND;TZID=America/Chicago:20260107T213000
DTSTAMP:20260423T122258
CREATED:20251215T172245Z
LAST-MODIFIED:20251215T174318Z
UID:4141-1767774600-1767821400@empowerherlife.network
SUMMARY:Esther's Call Virtual Bible Study
DESCRIPTION:Join us for Esther’s Call\, a weekly virtual devotional created for women who want to grow in faith\, find grounding in truth\, and connect with a supportive spiritual community. \n\n\nEach session offers space to pause\, reflect\, and realign — helping you start your week with clarity\, peace\, and purpose. Whether you’re deep in your faith journey or just beginning\, this gathering is a place to feel seen\, supported\, and renewed. \n\nFree and open to all women.\nCome as you are\, and leave encouraged\, strengthened\, and connected.
URL:https://empowerherlife.network/event/esthers-call-virtual-bible-study/
LOCATION:Online Via Zoom
CATEGORIES:Esther's Call,Northshore
ATTACH;FMTTYPE=image/png:https://empowerherlife.network/wp-content/uploads/2025/12/EHL-MASTER-Event-Graphics-Website-28.png
END:VEVENT
END:VCALENDAR